BEGIN:VCALENDAR
VERSION:2.0
PRODID:-//Collaborative on Faith and Disability - ECPv5.10.0//NONSGML v1.0//EN
CALSCALE:GREGORIAN
METHOD:PUBLISH
X-WR-CALNAME:Collaborative on Faith and Disability
X-ORIGINAL-URL:https://faithanddisability.org
X-WR-CALDESC:Events for Collaborative on Faith and Disability
BEGIN:VTIMEZONE
TZID:America/Chicago
BEGIN:DAYLIGHT
TZOFFSETFROM:-0600
TZOFFSETTO:-0500
TZNAME:CDT
DTSTART:20150308T080000
END:DAYLIGHT
BEGIN:STANDARD
TZOFFSETFROM:-0500
TZOFFSETTO:-0600
TZNAME:CST
DTSTART:20151101T070000
END:STANDARD
END:VTIMEZONE
BEGIN:VEVENT
DTSTART;TZID=America/Chicago:20150311T140000
DTEND;TZID=America/Chicago:20150311T150000
DTSTAMP:20260420T071725
CREATED:20150217T175507Z
LAST-MODIFIED:20150217T180543Z
UID:1276-1426082400-1426086000@faithanddisability.org
SUMMARY:Building Bridges: Working with Faith Communities to Support People with I/DD
DESCRIPTION:Clergy and other faith leaders often play an important role in the lives of people with intellectual and developmental disabilities (I/DD) and their families.Faith communities can support people with I/DD to build community connections and to provide spiritual support just as they do with other members. \nIn this webinar\, Bill Gaventa and Michelle Reynolds share tools and resources that faith leaders can use to support families as they plan for the future. Speakers will also discuss how staff at chapters of The Arc\, family members\, and other members of the disability community can work with faith communities to reach out to families that may be connected to congregations but not to other supports in the disability service system.
URL:https://faithanddisability.org/event/building-bridges-working-with-faith-communities-to-support-people-with-idd/
LOCATION:Unnamed Venue\, Embassy Suites 555 S. 10th St. \, Omaha\, NE\, NE\, United States
END:VEVENT
END:VCALENDAR