BEGIN:VCALENDAR
VERSION:2.0
PRODID:-//Collaborative on Faith and Disability - ECPv5.10.0//NONSGML v1.0//EN
CALSCALE:GREGORIAN
METHOD:PUBLISH
X-WR-CALNAME:Collaborative on Faith and Disability
X-ORIGINAL-URL:https://faithanddisability.org
X-WR-CALDESC:Events for Collaborative on Faith and Disability
BEGIN:VTIMEZONE
TZID:America/Chicago
BEGIN:DAYLIGHT
TZOFFSETFROM:-0600
TZOFFSETTO:-0500
TZNAME:CDT
DTSTART:20180311T080000
END:DAYLIGHT
BEGIN:STANDARD
TZOFFSETFROM:-0500
TZOFFSETTO:-0600
TZNAME:CST
DTSTART:20181104T070000
END:STANDARD
END:VTIMEZONE
BEGIN:VEVENT
DTSTART;VALUE=DATE:20180411
DTEND;VALUE=DATE:20180413
DTSTAMP:20260420T040626
CREATED:20180312T145707Z
LAST-MODIFIED:20180312T145707Z
UID:2975-1523404800-1523577599@faithanddisability.org
SUMMARY:Building Community Bridges: Conversations on Disability
DESCRIPTION:Even among faith communities committed to social justice\, issues around disability can be overlooked. Spanning two days\, this workshop features public lectures\, a panel with self-advocates and their families\, and breakout sessions with experts in the field. \nMethodist Theological School in Ohio
URL:https://faithanddisability.org/event/building-community-bridges-conversations-on-disability/
LOCATION:Methodist Theological School in Ohio\, 3081 Columbus Pike\, Delaware\, OH\, 43015\, United States
END:VEVENT
END:VCALENDAR