BEGIN:VCALENDAR
VERSION:2.0
PRODID:-//Collaborative on Faith and Disability - ECPv5.10.0//NONSGML v1.0//EN
CALSCALE:GREGORIAN
METHOD:PUBLISH
X-WR-CALNAME:Collaborative on Faith and Disability
X-ORIGINAL-URL:https://faithanddisability.org
X-WR-CALDESC:Events for Collaborative on Faith and Disability
BEGIN:VTIMEZONE
TZID:America/Chicago
BEGIN:DAYLIGHT
TZOFFSETFROM:-0600
TZOFFSETTO:-0500
TZNAME:CDT
DTSTART:20160313T080000
END:DAYLIGHT
BEGIN:STANDARD
TZOFFSETFROM:-0500
TZOFFSETTO:-0600
TZNAME:CST
DTSTART:20161106T070000
END:STANDARD
END:VTIMEZONE
BEGIN:VEVENT
DTSTART;TZID=America/Chicago:20160821T080000
DTEND;TZID=America/Chicago:20160823T170000
DTSTAMP:20260420T034607
CREATED:20150819T160157Z
LAST-MODIFIED:20150819T160157Z
UID:1661-1471766400-1471971600@faithanddisability.org
SUMMARY:Exclusion & Embrace: Disability\, Justice & Spirituality
DESCRIPTION:The multi-faith conference Exclusion & Embrace: Disability\, Justice & Spirituality\, will be held August 21-23\, 2016 at the Jasper Hotel in Melbourne. Speakers include: \n\nProf Hans Reinders: Chair of Ethics\, VU University\, Amsterdam and author of: Receiving the Gift of Friendship. Profound Disability\, Theological Anthropology\, and Ethics.\nRev Bill Gaventa: Director of the Summer Institute of Theology and Disability and previous Editor of Journal of Disability\, Religion and Health\, USA.\nDavid Tacey: Emeritus Professor of Humanities\, La Trobe University\, Melbourne. An interdisciplinary scholar and public intellectual who has written extensively on spirituality\, religion\, youth experience and mental health. \n\nFor more information or to register\, please contact Ann.Byrne@victas.uca.org.au.
URL:https://faithanddisability.org/event/exclusion-embrace-disability-justice-spirituality/
LOCATION:Unnamed Venue\, Melbourne\, Australia
ORGANIZER;CN="Uniting%20Church%20in%20Australia":MAILTO:Ann.Byrne@victas.uca.org.au
END:VEVENT
END:VCALENDAR