BEGIN:VCALENDAR
VERSION:2.0
PRODID:-//Collaborative on Faith and Disability - ECPv5.10.0//NONSGML v1.0//EN
CALSCALE:GREGORIAN
METHOD:PUBLISH
X-WR-CALNAME:Collaborative on Faith and Disability
X-ORIGINAL-URL:https://faithanddisability.org
X-WR-CALDESC:Events for Collaborative on Faith and Disability
BEGIN:VTIMEZONE
TZID:America/Chicago
BEGIN:DAYLIGHT
TZOFFSETFROM:-0600
TZOFFSETTO:-0500
TZNAME:CDT
DTSTART:20140309T080000
END:DAYLIGHT
BEGIN:STANDARD
TZOFFSETFROM:-0500
TZOFFSETTO:-0600
TZNAME:CST
DTSTART:20141102T070000
END:STANDARD
END:VTIMEZONE
BEGIN:VEVENT
DTSTART;VALUE=DATE:20141108
DTEND;VALUE=DATE:20141111
DTSTAMP:20260420T053612
CREATED:20141027T125312Z
LAST-MODIFIED:20141027T125312Z
UID:1114-1415404800-1415663999@faithanddisability.org
SUMMARY:USA Faith and Light is
DESCRIPTION:USA Faith and Light is sponsoring an event with Marie Helene Mathieu\, the Co-Founder with Jean Vanier of the International Faith and Light\, and author of a new book about Faith and Light called Never Alone Again. November 8\, 9\, and 10th. A two-day retreat and one day event. It takes place at the Washington Retreat House\, Harewood Road in Washington and at the Ukrainian Catholic National Shrine of the Holy Family\, also on Harewood Road. For more information and registration forms\, email Plandis@Indcreek.Org.
URL:https://faithanddisability.org/event/usa-faith-and-light-is/
LOCATION:Washington Retreat House\, Harewood Road\, Washington
END:VEVENT
END:VCALENDAR