BEGIN:VCALENDAR
VERSION:2.0
PRODID:-//Collaborative on Faith and Disability - ECPv5.10.0//NONSGML v1.0//EN
CALSCALE:GREGORIAN
METHOD:PUBLISH
X-WR-CALNAME:Collaborative on Faith and Disability
X-ORIGINAL-URL:https://faithanddisability.org
X-WR-CALDESC:Events for Collaborative on Faith and Disability
BEGIN:VTIMEZONE
TZID:America/Chicago
BEGIN:DAYLIGHT
TZOFFSETFROM:-0600
TZOFFSETTO:-0500
TZNAME:CDT
DTSTART:20180311T080000
END:DAYLIGHT
BEGIN:STANDARD
TZOFFSETFROM:-0500
TZOFFSETTO:-0600
TZNAME:CST
DTSTART:20181104T070000
END:STANDARD
END:VTIMEZONE
BEGIN:VEVENT
DTSTART;TZID=America/Chicago:20180221T130000
DTEND;TZID=America/Chicago:20180221T140000
DTSTAMP:20260420T072221
CREATED:20180104T214945Z
LAST-MODIFIED:20180221T011755Z
UID:2913-1519218000-1519221600@faithanddisability.org
SUMMARY:Webinar: Accessing Faith like Everyone Else
DESCRIPTION:This panel\, representing people of different organized faiths in Connecticut\, will describe their own faith communities’ mission and actions for everyone to access faith like everyone else.  From worship to sacraments\, faith formation\, and special faith events to community activities\, panel members will describe how effortless and natural it is to avoid “special programs” and embrace all means all.  Recommendations for other faith communities to follow suit will be offered as well.\n\n\n\n\nRegister here: https://zoom.us/webinar/register/WN_TguOQM59R4mk7QYjwJIkTQ
URL:https://faithanddisability.org/event/webinar-accessing-faith-like-everyone-else/
END:VEVENT
END:VCALENDAR