BEGIN:VCALENDAR
VERSION:2.0
PRODID:-//Collaborative on Faith and Disability - ECPv5.10.0//NONSGML v1.0//EN
CALSCALE:GREGORIAN
METHOD:PUBLISH
X-WR-CALNAME:Collaborative on Faith and Disability
X-ORIGINAL-URL:https://faithanddisability.org
X-WR-CALDESC:Events for Collaborative on Faith and Disability
BEGIN:VTIMEZONE
TZID:America/Chicago
BEGIN:DAYLIGHT
TZOFFSETFROM:-0600
TZOFFSETTO:-0500
TZNAME:CDT
DTSTART:20170312T080000
END:DAYLIGHT
BEGIN:STANDARD
TZOFFSETFROM:-0500
TZOFFSETTO:-0600
TZNAME:CST
DTSTART:20171105T070000
END:STANDARD
END:VTIMEZONE
BEGIN:VEVENT
DTSTART;TZID=America/Chicago:20171213T130000
DTEND;TZID=America/Chicago:20171213T140000
DTSTAMP:20260420T102021
CREATED:20171005T232624Z
LAST-MODIFIED:20171005T233023Z
UID:2804-1513170000-1513173600@faithanddisability.org
SUMMARY:Webinar: Dancing with the Spirits: Initiatives by UCEDD’s to Address Spiritual Supports (and Lessons Learned)
DESCRIPTION:As UCEDD’s address inclusive\, person-centered supports in communities\, the role and importance of spiritual supports for individuals and families has emerged as a crucial community resource. In this webinar\, three UCEDD’s will share the rationale and description of projects related to the core missions of Training\, Technical Assistance\, Research and Dissemination\, lessons learned\, and their plans for next steps. \nPresenters include: Rhonda Eppelsheimer and Joe Basey\, (OHSU)\, Mark Crenshaw (Georgia State)\, and Angela Amado\, Julie Kramme\, and Anab Gulaib (Minnesota). Bill Gaventa\, Moderator
URL:https://faithanddisability.org/event/webinar-dancing-with-the-spirits-initiatives-by-ucedds-to-address-spiritual-supports-and-lessons-learned/
END:VEVENT
END:VCALENDAR