BEGIN:VCALENDAR
VERSION:2.0
PRODID:-//Collaborative on Faith and Disability - ECPv5.10.0//NONSGML v1.0//EN
CALSCALE:GREGORIAN
METHOD:PUBLISH
X-WR-CALNAME:Collaborative on Faith and Disability
X-ORIGINAL-URL:https://faithanddisability.org
X-WR-CALDESC:Events for Collaborative on Faith and Disability
BEGIN:VTIMEZONE
TZID:America/Chicago
BEGIN:DAYLIGHT
TZOFFSETFROM:-0600
TZOFFSETTO:-0500
TZNAME:CDT
DTSTART:20180311T080000
END:DAYLIGHT
BEGIN:STANDARD
TZOFFSETFROM:-0500
TZOFFSETTO:-0600
TZNAME:CST
DTSTART:20181104T070000
END:STANDARD
END:VTIMEZONE
BEGIN:VEVENT
DTSTART;TZID=America/Chicago:20180117T130000
DTEND;TZID=America/Chicago:20180117T140000
DTSTAMP:20260420T101947
CREATED:20180103T220100Z
LAST-MODIFIED:20180103T221050Z
UID:2880-1516194000-1516197600@faithanddisability.org
SUMMARY:Webinar: Jewish Disability Awareness and Inclusion Month: How to Create Grassroots Change in Faith Communities
DESCRIPTION:February is Jewish Disability Awareness and Inclusion Month. For the 10th year\, Jewish communities around the world recognize JDAIM with programming to raise awareness and create momentum year round. Shelly Christensen\, co-founder of JDAIM\, and author of the new book From Longing to Belonging: A Faith Community Guide to Inclusion of People with Disabilities is joined by Aaron Kaufman\, Senior Legislative Associate\, The Jewish Federations of North America. Gabrielle Kaplan-Mayer\, Director of Jewish Learning Venture’s “Whole Community Inclusion” in Philadelphia\, will discuss how JDAIM grew from 4 communities to a global initiative\, advocacy for the rights of people with disabilities\, and easily replicable programming for any faith community. \nPresenters: Shelly Christensen\, Gabrielle Kaplan-Mayer\, and Aaron Kaufman \nRegister here: https://zoom.us/webinar/register/WN_HC1rvFP2SNqGcQFoyyVu3Q
URL:https://faithanddisability.org/event/webinar-jewish-disability-awareness-and-inclusion-month-how-to-create-grassroots-change-in-faith-communities/
END:VEVENT
END:VCALENDAR