BEGIN:VCALENDAR
VERSION:2.0
PRODID:-//Collaborative on Faith and Disability - ECPv5.10.0//NONSGML v1.0//EN
CALSCALE:GREGORIAN
METHOD:PUBLISH
X-WR-CALNAME:Collaborative on Faith and Disability
X-ORIGINAL-URL:https://faithanddisability.org
X-WR-CALDESC:Events for Collaborative on Faith and Disability
BEGIN:VTIMEZONE
TZID:America/Chicago
BEGIN:DAYLIGHT
TZOFFSETFROM:-0600
TZOFFSETTO:-0500
TZNAME:CDT
DTSTART:20180311T080000
END:DAYLIGHT
BEGIN:STANDARD
TZOFFSETFROM:-0500
TZOFFSETTO:-0600
TZNAME:CST
DTSTART:20181104T070000
END:STANDARD
END:VTIMEZONE
BEGIN:VEVENT
DTSTART;TZID=America/Chicago:20180418T130000
DTEND;TZID=America/Chicago:20180418T140000
DTSTAMP:20260420T042108
CREATED:20180104T215233Z
LAST-MODIFIED:20180104T215233Z
UID:2917-1524056400-1524060000@faithanddisability.org
SUMMARY:Webinar: One Seminary’s Initiative: The Graduate Certificate in Disability and Ministry at Western Theological Seminary
DESCRIPTION:How can the human experience of disability be appreciated as a category of critical inquiry for reimagining ministerial formation? Disability studies views disability as both an unsurprising aspect of human diversity and as a social construction. By attending to the construction of disability and the experiences and perceptions of people with disabilities\, students and professors can gain perspectives that will enrich and perhaps transform Christian theology and ministry. Join us and hear how WTS is [dis]abling graduate theological education. \nPresenter: Ben Conner \nRegister here: https://zoom.us/webinar/register/WN_blIbBS2KTJuCJn_Z6Dn05Q
URL:https://faithanddisability.org/event/webinar-one-seminarys-initiative-the-graduate-certificate-in-disability-and-ministry-at-western-theological-seminary/
END:VEVENT
END:VCALENDAR