BEGIN:VCALENDAR
VERSION:2.0
PRODID:-//Collaborative on Faith and Disability - ECPv5.10.0//NONSGML v1.0//EN
CALSCALE:GREGORIAN
METHOD:PUBLISH
X-WR-CALNAME:Collaborative on Faith and Disability
X-ORIGINAL-URL:https://faithanddisability.org
X-WR-CALDESC:Events for Collaborative on Faith and Disability
BEGIN:VTIMEZONE
TZID:America/Chicago
BEGIN:DAYLIGHT
TZOFFSETFROM:-0600
TZOFFSETTO:-0500
TZNAME:CDT
DTSTART:20170312T080000
END:DAYLIGHT
BEGIN:STANDARD
TZOFFSETFROM:-0500
TZOFFSETTO:-0600
TZNAME:CST
DTSTART:20171105T070000
END:STANDARD
END:VTIMEZONE
BEGIN:VEVENT
DTSTART;TZID=America/Chicago:20171115T130000
DTEND;TZID=America/Chicago:20171115T140000
DTSTAMP:20260420T072334
CREATED:20171005T232529Z
LAST-MODIFIED:20171101T125341Z
UID:2802-1510750800-1510754400@faithanddisability.org
SUMMARY:Webinar: Putting Faith to Work: Congregations as a Promising Pathway to Employment for People with Disabilities
DESCRIPTION:Far too many people with disabilities lack the opportunities and supports to participate in the work of work. How might faith communities play a role in supporting people with disabilities in their community to flourish in the workplace? Putting Faith to Work is a promising and practical model for tapping into the social capital\, creativity\, and commitment within a congregation to connect the gifts and talents of people with disabilities to meaningful work. This free webinar will describe this practical approach and illustrate how local churches are putting their faith to work. \nPresenters include: Erik Carter (Vanderbilt University)\, Gigi Sanders (Christ Presbyterian Church)\, and Callie Ford (LifePoint Church)
URL:https://faithanddisability.org/event/webinar-putting-faith-to-work-congregations-as-a-promising-pathway-to-employment-for-people-with-disabilities/
END:VEVENT
END:VCALENDAR